Workbook
Name BrowseRecords: RiskSerializationData8!$6:$11
Name RiskGoalSeekChangingCell: 'Cash Flow Risk'!$C$30
Name SerializationHeader: RiskSerializationData8!$A$1:$B$3

Sheet ProjectData
A1: Obs | B1: CAPEX/Project | C1: CAPEX/Infrastructure | D1: OPEX/Year | E1: OPEX/Sales
A2: 1 | B2: 643768.13 | C2: 301788.04 | D2: 142365.52 | E2: 0.70060697
A3: 2 | B3: 677597.07 | C3: 277181.53 | D3: 133261.29 | E3: 0.53586569
A4: 3 | B4: 688983.75 | C4: 255619.05 | D4: 154897.28 | E4: 0.17336038
A5: 4 | B5: 679275.73 | C5: 224164.67 | D5: 133086.32 | E5: 0.4781031
A6: 5 | B6: 841335.36 | C6: 240791.67 | D6: 112599.94 | E6: 0.54522746
A7: 6 | B7: 894390.36 | C7: 246165.84 | D7: 146737.63 | E7: 0.48652517
A8: 7 | B8: 665919.49 | C8: 244022.85 | D8: 151169.18 | E8: 0.70586033
A9: 8 | B9: 787343.8 | C9: 264081.34 | D9: 139515.86 | E9: 0.67701447
A10: 9 | B10: 730853.89 | C10: 244562.66 | D10: 158850.27 | E10: 0.31990659
A11: 10 | B11: 866529.26 | C11: 265941.68 | D11: 136966.86 | E11: 0.75964929
A12: 11 | B12: 823620.1 | C12: 262634.6 | D12: 178041.1 | E12: 0.22504247
A13: 12 | B13: 654788.46 | C13: 279622.9 | D13: 139221.77 | E13: 0.31743799
... A151: 150 | B151: 503141.17 | C151: 242615.16 | D151: 181308.87 | E151: 0.25341677

Sheet MarketData
A1: Obs | B1: Sales Volume | C1: Mateirals Cost | D1: Product Price
A2: -50 | B2: 37937.5 | C2: 5.0262827 | D2: 19.373243
A3: =A2+1 -> -49 | B3: 40064.717 | C3: 5.8639567 | D3: 20.467296
A4: =A3+1 -> -48 | B4: 45175.967 | C4: 8.4393783 | D4: 18.010685
A5: =A4+1 -> -47 | B5: 38493.245 | C5: 12.573526 | D5: 17.624393
A6: =A5+1 -> -46 | B6: 35703.743 | C6: 10.861375 | D6: 17.374597
A7: =A6+1 -> -45 | B7: 37316.805 | C7: 7.1599533 | D7: 15.364965
A8: =A7+1 -> -44 | B8: 41420.465 | C8: 5.1806756 | D8: 16.258397
A9: =A8+1 -> -43 | B9: 45961.422 | C9: 5.0702542 | D9: 15.908456
A10: =A9+1 -> -42 | B10: 36316.146 | C10: 5.2378248 | D10: 15.739952
A11: =A10+1 -> -41 | B11: 43360.408 | C11: 5.4034534 | D11: 15.827929
A12: =A11+1 -> -40 | B12: 43956.639 | C12: 5.5364581 | D12: 15.638734
A13: =A12+1 -> -39 | B13: 42586.036 | C13: 4.7483561 | D13: 18.305539
A14: =A13+1 -> -38 | B14: 36320.747 | C14: 4.8512086 | D14: 16.576377
... A18: =A17+1 -> -34 | B18: 36666.476 | C18: 9.7091583 | D18: 13.509243
A19: =A18+1 -> -33 | B19: 41132.592 | C19: 7.513665 | D19: 12.805164 | F19: HISTORICAL DATA
A20: =A19+1 -> -32 | B20: 44467.605 | C20: 5.8774772 | D20: 12.7722 | G20: Sales Volume | H20: Mateirals Cost | I20: Product Price
A21: =A20+1 -> -31 | B21: 37855.509 | C21: 5.4715713 | D21: 13.105942 | F21: Historical Mean | G21: =AVERAGE(B2:B51) -> 40348.551 | H21: =AVERAGE(C2:C51) -> 6.7641931 | I21: =AVERAGE(D2:D51) -> 16.239686
A22: =A21+1 -> -30 | B22: 37645.496 | C22: 5.5840599 | D22: 12.868523 | F22: Historical Std Deviation | G22: =_xlfn.STDEV.S(B2:B51) -> 3267.871 | H22: =_xlfn.STDEV.S(C2:C51) -> 2.1409127 | I22: =_xlfn.STDEV.S(D2:D51) -> 2.0248866
A23: =A22+1 -> -29 | B23: 39620.896 | C23: 6.2605794 | D23: 13.024371 | F23: Simulation Mean 0-20 | G23: =_xll.RiskMakeInput(AVERAGE(B52:B72)) -> #NAME? | H23: =_xll.RiskMakeInput(AVERAGE(C52:C72)) -> #NAME? | I23: =_xll.RiskMakeInput(AVERAGE(D52:D72)) -> #NAME?
A24: =A23+1 -> -28 | B24: 45102.149 | C24: 5.9503015 | D24: 12.759949
A25: =A24+1 -> -27 | B25: 38015.223 | C25: 5.4710379 | D25: 14.936081
A26: =A25+1 -> -26 | B26: 39030.698 | C26: 5.3999148 | D26: 16.215189
A27: =A26+1 -> -25 | B27: 41952.938 | C27: 5.9101256 | D27: 16.149404
A28: =A27+1 -> -24 | B28: 42553.289 | C28: 8.2269624 | D28: 18.359477
A29: =A28+1 -> -23 | B29: 36561.531 | C29: 12.37329 | D29: 15.557523
A30: =A29+1 -> -22 | B30: 37905.025 | C30: 10.802419 | D30: 13.572687
A31: =A30+1 -> -21 | B31: 41174.992 | C31: 7.3505856 | D31: 12.863689
A32: =A31+1 -> -20 | B32: 42554.592 | C32: 5.6544733 | D32: 15.860425
A33: =A32+1 -> -19 | B33: 40894.824 | C33: 4.6382624 | D33: 18.705198
A34: =A33+1 -> -18 | B34: 37301.885 | C34: 4.7914879 | D34: 19.141657
A35: =A34+1 -> -17 | B35: 41063.038 | C35: 5.5100745 | D35: 17.427442
... A51: =A50+1 -> -1 | B51: 40476.663 | C51: 6.0180084 | D51: 15.19241
A52: =A51+1 -> 0 | B52: ='Time Series Fit Summary'!B9 -> #NAME? | C52: ='Time Series Fit Summary'!C9 -> #NAME? | D52: ='Time Series Fit Summary'!D9 -> #NAME?
A53: =A52+1 -> 1 | B53: ='Time Series Fit Summary'!B10 -> #NAME? | C53: ='Time Series Fit Summary'!C10 -> #NAME? | D53: ='Time Series Fit Summary'!D10 -> #NAME?
A54: =A53+1 -> 2 | B54: ='Time Series Fit Summary'!B11 -> #NAME? | C54: ='Time Series Fit Summary'!C11 -> #NAME? | D54: ='Time Series Fit Summary'!D11 -> #NAME?
A55: =A54+1 -> 3 | B55: ='Time Series Fit Summary'!B12 -> #NAME? | C55: ='Time Series Fit Summary'!C12 -> #NAME? | D55: ='Time Series Fit Summary'!D12 -> #NAME?
A56: =A55+1 -> 4 | B56: ='Time Series Fit Summary'!B13 -> #NAME? | C56: ='Time Series Fit Summary'!C13 -> #NAME? | D56: ='Time Series Fit Summary'!D13 -> #NAME?
A57: =A56+1 -> 5 | B57: ='Time Series Fit Summary'!B14 -> #NAME? | C57: ='Time Series Fit Summary'!C14 -> #NAME? | D57: ='Time Series Fit Summary'!D14 -> #NAME?
A58: =A57+1 -> 6 | B58: ='Time Series Fit Summary'!B15 -> #NAME? | C58: ='Time Series Fit Summary'!C15 -> #NAME? | D58: ='Time Series Fit Summary'!D15 -> #NAME?
...

Sheet goalSeekInfo
A1: ChangingCell | B1: GoalCell | C1: GoalValue | D1: GoalStatisticOldFormat | E1: ComparisonAccuracyValue | F1: MaxNumSimulations | G1: VariationMinimum | H1: VariationMaximum | I1: VariationMinimumInf | J1: VariationMaximumInf | K1: AccuracyIsPercent | L1: GenerateSimulationForSolution | M1: GoalStatisticPercentile | N1: ComparisonAccuracyPercent | O1: GoalStatistic | P1: RecommendedVersion | Q1: RequiredVersion
A2: ='Cash Flow Risk'!$C$30 -> 0.011194777 | B2: ='Cash Flow Risk'!$C$47 -> #NAME? | C2: 0 | D2: 6 | E2: 1 | F2: 100 | G2: 0 | H2: 0.25 | I2: FALSE | J2: FALSE | K2: FALSE | L2: TRUE | M2: 0.1 | N2: 0.01 | O2: 9 | P2: 8.1.0 | Q2: 0.0.0

Sheet Time Series Fit Summary
A4: Name | B4: Sales Volume | C4: Mateirals Cost | D4: Product Price
A5: Range | B5: MarketData'!B2:B51 | C5: MarketData'!C2:C51 | D5: MarketData'!D2:D51
A6: Best Fit (Ranked by AIC) | B6: RiskGARCH11(40390;9,2486E+05;0,27937;0,4286;39824;1349,4) | C6: RiskMA2(6,8298;0,29504;0,75267;0,22645;-0,45828;0,43178) | D6: RiskAR1(16,326;1,4567;0,69184;15,192)
A7: AIC | B7: 873.90233 | C7: 28.408187 | D7: 186.1636
A8: Graph
A9: Function | B9: {=_xll.RiskGARCH11(40390,924860,0.27937,0.4286,39824,1349.4,_xll.RiskTsSeasonality(3,4,{-3932.6,652.58,3848.1,-526.88},3),_xll.RiskName("Sales Volume"),_xll.RiskTsSync(2,MarketData!$B$2:$B$51),_xll.RiskCorrmat($B$35:$D$37,1))} -> #NAME? | C9: {=_xll.RiskMA2(6.8298,0.29504,0.75267,0.22645,-0.45828,0.43178,_xll.RiskTsSeasonality(3,12,{-1.6327,-0.67418,1.1348,4.7077,3.5019,0.67465,-1.1168,-1.661,-1.5827,-1.026,-1.0129,-1.6357},3),_xll.RiskName("Mateirals Cost"),_xll.RiskTsSync(2,MarketData!$C$2:$C$51),_xll.RiskCorrmat($B$35:$D$37,2))} -> #NAME? | D9: {=_xll.RiskAR1(16.326,1.4567,0.69184,15.192,_xll.RiskName("Product Price"),_xll.RiskTsSync(2,MarketData!$D$2:$D$51),_xll.RiskCorrmat($B$35:$D$37,3))} -> #NAME?
B10: #NAME? | C10: #NAME? | D10: #NAME?
B11: #NAME? | C11: #NAME? | D11: #NAME?
B12: #NAME? | C12: #NAME? | D12: #NAME?
B13: #NAME? | C13: #NAME? | D13: #NAME?
B14: #NAME? | C14: #NAME? | D14: #NAME?
B15: #NAME? | C15: #NAME? | D15: #NAME?
B16: #NAME? | C16: #NAME? | D16: #NAME?
B17: #NAME? | C17: #NAME? | D17: #NAME?
B18: #NAME? | C18: #NAME? | D18: #NAME?
B19: #NAME? | C19: #NAME? | D19: #NAME?
B20: #NAME? | C20: #NAME? | D20: #NAME?
B21: #NAME? | C21: #NAME? | D21: #NAME?
... B32: #NAME? | C32: #NAME? | D32: #NAME?
A34: Correlation | B34: Sales Volume_x000D_ Transformed | C34: Mateirals Cost_x000D_ Transformed | D34: Product Price
A35: Sales Volume (Transformed) | B35: 1
A36: Mateirals Cost (Transformed) | B36: -0.20403361 | C36: 1
A37: Product Price | B37: 0.015894358 | C37: -0.16657863 | D37: 1

Sheet RiskSerializationData8
A1: Written By Version | B1: 8.1.0
A2: Serialization Major Version | B2: 4
A3: Serialization Minor Version | B3: 0
A5: Browse Record | B5: Display Mode | C5: Sens Graph Type | D5: Cond Sens Settings | E5: Scenario Settings | F5: Selected Scenario | J5: Distribution Options | K5: Distribution GS | L5: Distribution Curves | N5: Sens Tornado Options | O5: Sens Tornado GS | P5: Sens Tornado Curves | R5: Scen Tornado Options | S5: Scen Tornado GS | T5: Scen Tornado Curves | V5: Sens Spider Option | W5: Sens Spider GS | X5: Sens Spider Curves
A6: =ModelRef('Cash Flow Risk'!$K$22,1,0,0) -> #NAME? | B6: 0 | C6: 3 | F6: 0 | J6: TRUE | K6: GF1_rK0qDwEAEwAMAQwjACcATwBsAIAAgQCPAJ0A5gAIAQIBKwD//wAAAAAAAAEEAAAAABoiJCIjLCMjMF8pO1tSZWRdKCIkIiMsIyMwKQAAAAEXRGlzdHJpYnV0aW9uIENvbXBhcmlzb24BAAEBEAACAAEKU3RhdGlzdGljcwMBAQD/AQEBAQEAAQEBAAQAAAABAQEBAQABAQEABAAAAAKkAALHAAIfABJGcmVlIENhc2ggRmxvdyAvIDgAAAD/3BQ8AQAAAgACABsAEkZyZWUgQ2FzaCBGbG93IC8gOAABJQEAAAIAAgDuAPgAAQEDAZqZmZmZmak/AABmZmZmZmbuPwAABQABAQEAAQEBAA== | L6: =ModelRef('Cash Flow Risk'!$K$22,1,0,0)+ModelRef('Cash Flow Risk'!$K$46,1,0,-1) -> #NAME?
A7: =ModelRef('Cash Flow Risk'!$F$22,1,0,0) -> #NAME? | B7: 0 | C7: 3 | F7: 0 | J7: TRUE | K7: GF1_rK0qDwEAEwAMAQwjACcATwBsAIAAgQCPAJ0A5gAIAQIBKwD//wAAAAAAAAEEAAAAABoiJCIjLCMjMF8pO1tSZWRdKCIkIiMsIyMwKQAAAAEXRGlzdHJpYnV0aW9uIENvbXBhcmlzb24BAAEBEAACAAEKU3RhdGlzdGljcwMBAQD/AQEBAQEAAQEBAAQAAAABAQEBAQABAQEABAAAAAKkAALHAAIfABJGcmVlIENhc2ggRmxvdyAvIDMAAAD/3BQ8AQAAAgACABsAEkZyZWUgQ2FzaCBGbG93IC8gMwABJQEAAAIAAgDuAPgAAQEDAZqZmZmZmak/AABmZmZmZmbuPwAABQABAQEAAQEBAA== | L7: =ModelRef('Cash Flow Risk'!$F$22,1,0,0)+ModelRef('Cash Flow Risk'!$F$46,1,0,-1) -> #NAME?
A8: =ModelRef('Cash Flow Risk'!$E$22,1,0,0) -> #NAME? | B8: 0 | C8: 3 | F8: 0 | J8: TRUE | K8: GF1_rK0qDwEAEwAMAQwjACcATwBsAIAAgQCPAJ0A5gAIAQIBKwD//wAAAAAAAAEEAAAAABoiJCIjLCMjMF8pO1tSZWRdKCIkIiMsIyMwKQAAAAEXRGlzdHJpYnV0aW9uIENvbXBhcmlzb24BAAEBEAACAAEKU3RhdGlzdGljcwMBAQD/AQEBAQEAAQEBAAQAAAABAQEBAQABAQEABAAAAAKkAALHAAIfABJGcmVlIENhc2ggRmxvdyAvIDIAAAD/3BQ8AQAAAgACABsAEkZyZWUgQ2FzaCBGbG93IC8gMgABJQEAAAIAAgDuAPgAAQEDAZqZmZmZmak/AABmZmZmZmbuPwAABQABAQEAAQEBAA== | L8: =ModelRef('Cash Flow Risk'!$E$22,1,0,0)+ModelRef('Cash Flow Risk'!$E$46,1,0,-1) -> #NAME?
A9: =ModelRef('Cash Flow Risk'!$D$22,1,0,0) -> #NAME? | B9: 0 | C9: 3 | F9: 0 | J9: TRUE | K9: GF1_rK0qDwEAEwAMAQwjACcATwBsAIAAgQCPAJ0A5gAIAQIBKwD//wAAAAAAAAEEAAAAABoiJCIjLCMjMF8pO1tSZWRdKCIkIiMsIyMwKQAAAAEXRGlzdHJpYnV0aW9uIENvbXBhcmlzb24BAAEBEAACAAEKU3RhdGlzdGljcwMBAQD/AQEBAQEAAQEBAAQAAAABAQEBAQABAQEABAAAAAKkAALHAAIfABJGcmVlIENhc2ggRmxvdyAvIDEAAAD/3BQ8AQAAAgACABsAEkZyZWUgQ2FzaCBGbG93IC8gMQABJQEAAAIAAgDuAPgAAQEDAZqZmZmZmak/AABmZmZmZmbuPwAABQABAQEAAQEBAA== | L9: =ModelRef('Cash Flow Risk'!$D$22,1,0,0)+ModelRef('Cash Flow Risk'!$D$46,1,0,-1) -> #NAME?
A10: =ModelRef('Cash Flow Risk'!$C$47,1,0,0) -> #NAME? | B10: 0 | C10: 3 | F10: 0 | J10: TRUE | K10: GF1_rK0qDwEAEwDGAAwjACcATwBYAGwAbQB7AIkAoQDCALwAKwD//wAAAgAAAAEEAAAAABoiJCIjLCMjMF8pO1tSZWRdKCIkIiMsIyMwKQAAAAEDTlBWAQABARAAAgABClN0YXRpc3RpY3MDAQEA/wEBAQEBAAEBAQAEAAAAAQEBAQEAAQEBAAQAAAABjQACEAADTlBWAAAA/9wUPAEAAAIAAgCpALIAAQEDAQAAAAAAAAAAAWZmZmZmZu4/AAAFAAEBAQABAQEA | L10: =ModelRef('Cash Flow Risk'!$C$47,1,0,0) -> #NAME? | N10: 3,10,2,0.95,5,16,FALSE,0,TRUE,TRUE,TRUE | O10: GF1_4VKXXwEAEwBEAQwjACcATAB7AIsAjACaAKgAAAAAADwBKAD//wAAAQEEAAAAABoiJCIjLCMjMF8pO1tSZWRdKCIkIiMsIyMwKQAAAAEDTlBWASZJbnB1dHMgUmFua2VkIGJ5IEVmZmVjdCBvbiBPdXRwdXQgTWVhbgEBDAABAAEGTGVnZW5kAwABAP8BAQEBAQABAQEABAAAAAEBAQEBAAEBAQAEAAAACscACNkACOQACO8ACPoACAUBCBABCBsBCCYBCDEBCBAAA05QVgAAAP/cFDwBAAACAAkAAAABJQEAAAIACQAAAAJPAQAAAgAJAAAAA4wBAAACAAkAAAAETAEAAAIACQAAAAU5AQAAAgAJAAAABk4BAAACAAkAAAAHIwEAAAIACQAAAAgpAQAAAgAJAAAACWABAAACAAUAAQEBAAAB | P10: =ModelRef('Cash Flow Risk'!$C$47,1,0,0) -> #NAME?
A11: =ModelRef('Cash Flow Risk'!$C$23,1,0,0) -> #NAME? | B11: 0 | C11: 3 | F11: 0 | J11: TRUE | K11: GF1_rK0qDwEAEwDuAAwjACcATwBsAIAAgQCPAJ0AyADqAOQAKwD//wAAAgAAAAEEAAAAABoiJCIjLCMjMF8pO1tSZWRdKCIkIiMsIyMwKQAAAAEXRGlzdHJpYnV0aW9uIENvbXBhcmlzb24BAAEBEAACAAEKU3RhdGlzdGljcwMBAQD/AQEBAQEAAQEBAAQAAAABAQEBAQABAQEABAAAAAKkAAK4AAIQAANOUFYAAAD/3BQ8AQAAAgACAAwAA05QVgABJQEAAAIAAgDQANoAAQEDAXsUrkfheoQ/AAFmZmZmZmbuPwAABQABAQEAAQEBAA== | L11: =ModelRef('Cash Flow Risk'!$C$23,1,0,0)+ModelRef('Cash Flow Risk'!$C$47,1,0,-1) -> #NAME?

Sheet Cash Flow Risk
A1: RISK MODEL | B1: PROJECT DATA
B2: Discount Rate | C2: 0.1 | E2: Distribution | F2: Low | G2: Base | H2: High
B3: CAPEX/Project | C3: =_xll.RiskTriang(F3,G3,H3,_xll.RiskName(B3),_xll.RiskStatic(G3)) -> #NAME? | E3: Triangular | F3: 500000 | G3: 750000 | H3: 1000000
B4: CAPEX/Infrastructure | C4: =_xll.RiskPert(F4,G4,H4,_xll.RiskName(B4),_xll.RiskStatic(G4)) -> #NAME? | E4: PERT | F4: 200000 | G4: 250000 | H4: 350000
B5: OPEX/Year | C5: =_xll.RiskNormalAlt(0.1,F5,0.9,H5,_xll.RiskName(B5),_xll.RiskStatic(G5)) -> #NAME? | E5: Normal | F5: 125000 | G5: 150000 | H5: 175000
B6: OPEX/Sales | C6: =_xll.RiskLognormAlt(0.1,F6,"mu",G6,0.9,H6,_xll.RiskName(B6),_xll.RiskStatic(G6)) -> #NAME? | E6: Lognormal | F6: 0.25 | G6: 0.5 | H6: 1
B7: Taxes | C7: 0.25
B9: MARKET DATA | C9: 0 | D9: =C9+1 -> 1 | E9: =D9+1 -> 2 | F9: =E9+1 -> 3 | G9: =F9+1 -> 4 | H9: =G9+1 -> 5 | I9: =H9+1 -> 6 | J9: =I9+1 -> 7 | K9: =J9+1 -> 8 | ... W9: =V9+1 -> 20
B10: Sales Volume | C10: {=TRANSPOSE(MarketData!B52:B72)} -> #NAME? | D10: #NAME? | E10: #NAME? | F10: #NAME? | G10: #NAME? | H10: #NAME? | I10: #NAME? | J10: #NAME? | K10: #NAME? | L10: #NAME? | M10: #NAME? | N10: #NAME? | O10: #NAME? | P10: #NAME? | Q10: #NAME? | R10: #NAME? | S10: #NAME? | T10: #NAME? | U10: #NAME? | V10: #NAME? | W10: #NAME?
B11: Mateirals Cost | C11: {=TRANSPOSE(MarketData!C52:C72)} -> #NAME? | D11: #NAME? | E11: #NAME? | F11: #NAME? | G11: #NAME? | H11: #NAME? | I11: #NAME? | J11: #NAME? | K11: #NAME? | L11: #NAME? | M11: #NAME? | N11: #NAME? | O11: #NAME? | P11: #NAME? | Q11: #NAME? | R11: #NAME? | S11: #NAME? | T11: #NAME? | U11: #NAME? | V11: #NAME? | W11: #NAME?
B12: Product Price | C12: {=TRANSPOSE(MarketData!D52:D72)} -> #NAME? | D12: #NAME? | E12: #NAME? | F12: #NAME? | G12: #NAME? | H12: #NAME? | I12: #NAME? | J12: #NAME? | K12: #NAME? | L12: #NAME? | M12: #NAME? | N12: #NAME? | O12: #NAME? | P12: #NAME? | Q12: #NAME? | R12: #NAME? | S12: #NAME? | T12: #NAME? | U12: #NAME? | V12: #NAME? | W12: #NAME?
B14: BUSINESS MODEL | C14: 0 | D14: =C14+1 -> 1 | E14: =D14+1 -> 2 | F14: =E14+1 -> 3 | G14: =F14+1 -> 4 | H14: =G14+1 -> 5 | I14: =H14+1 -> 6 | J14: =I14+1 -> 7 | K14: =J14+1 -> 8 | ... W14: =V14+1 -> 20
B15: CAPEX | C15: =-SUM($C$3:$C$4) -> #NAME?
B16: Sales Volume | C16: =C10 -> #NAME? | D16: =D10 -> #NAME? | E16: =E10 -> #NAME? | F16: =F10 -> #NAME? | G16: =G10 -> #NAME? | H16: =H10 -> #NAME? | I16: =I10 -> #NAME? | J16: =J10 -> #NAME? | ... W16: =W10 -> #NAME?
B17: Mateirals Cost | C17: =C11 -> #NAME? | D17: =D11 -> #NAME? | E17: =E11 -> #NAME? | F17: =F11 -> #NAME? | G17: =G11 -> #NAME? | H17: =H11 -> #NAME? | I17: =I11 -> #NAME? | J17: =J11 -> #NAME? | ... W17: =W11 -> #NAME?
B18: Product Price | C18: =C12 -> #NAME? | D18: =D12 -> #NAME? | E18: =E12 -> #NAME? | F18: =F12 -> #NAME? | G18: =G12 -> #NAME? | H18: =H12 -> #NAME? | I18: =I12 -> #NAME? | J18: =J12 -> #NAME? | ... W18: =W12 -> #NAME?
B19: Revenues | C19: =C16*C18 -> #NAME? | D19: =D16*D18 -> #NAME? | E19: =E16*E18 -> #NAME? | F19: =F16*F18 -> #NAME? | G19: =G16*G18 -> #NAME? | H19: =H16*H18 -> #NAME? | I19: =I16*I18 -> #NAME? | J19: =J16*J18 -> #NAME? | ... W19: =W16*W18 -> #NAME?
B20: OPEX | C20: =-$C$5-C16*($C$6+C17) -> #NAME? | D20: =-$C$5-D16*($C$6+D17) -> #NAME? | E20: =-$C$5-E16*($C$6+E17) -> #NAME? | F20: =-$C$5-F16*($C$6+F17) -> #NAME? | G20: =-$C$5-G16*($C$6+G17) -> #NAME? | H20: =-$C$5-H16*($C$6+H17) -> #NAME? | I20: =-$C$5-I16*($C$6+I17) -> #NAME? | J20: =-$C$5-J16*($C$6+J17) -> #NAME? | ... W20: =-$C$5-W16*($C$6+W17) -> #NAME?
B21: Taxes | C21: =-(SUM(C19:C20)>0)*SUM(C19:C20)*$C$7 -> #NAME? | D21: =-(SUM(D19:D20)>0)*SUM(D19:D20)*$C$7 -> #NAME? | E21: =-(SUM(E19:E20)>0)*SUM(E19:E20)*$C$7 -> #NAME? | F21: =-(SUM(F19:F20)>0)*SUM(F19:F20)*$C$7 -> #NAME? | G21: =-(SUM(G19:G20)>0)*SUM(G19:G20)*$C$7 -> #NAME? | H21: =-(SUM(H19:H20)>0)*SUM(H19:H20)*$C$7 -> #NAME? | I21: =-(SUM(I19:I20)>0)*SUM(I19:I20)*$C$7 -> #NAME? | J21: =-(SUM(J19:J20)>0)*SUM(J19:J20)*$C$7 -> #NAME? | ... W21: =-(SUM(W19:W20)>0)*SUM(W19:W20)*$C$7 -> #NAME?
B22: Free Cash Flow | C22: =_xll.RiskOutput(,B22,1)+C15+SUM(C19:C21) -> #NAME? | D22: =_xll.RiskOutput(,B22,2)+D15+SUM(D19:D21) -> #NAME? | E22: =_xll.RiskOutput(,B22,3)+E15+SUM(E19:E21) -> #NAME? | F22: =_xll.RiskOutput(,B22,4)+F15+SUM(F19:F21) -> #NAME? | G22: =_xll.RiskOutput(,B22,5)+G15+SUM(G19:G21) -> #NAME? | H22: =_xll.RiskOutput(,B22,6)+H15+SUM(H19:H21) -> #NAME? | I22: =_xll.RiskOutput(,B22,7)+I15+SUM(I19:I21) -> #NAME? | J22: =_xll.RiskOutput(,B22,8)+J15+SUM(J19:J21) -> #NAME? | K22: =_xll.RiskOutput(,B22,9)+K15+SUM(K19:K21) -> #NAME? | L22: =_xll.RiskOutput(,B22,10)+L15+SUM(L19:L21) -> #NAME? | M22: =_xll.RiskOutput(,B22,11)+M15+SUM(M19:M21) -> #NAME? | N22: =_xll.RiskOutput(,B22,12)+N15+SUM(N19:N21) -> #NAME? | O22: =_xll.RiskOutput(,B22,13)+O15+SUM(O19:O21) -> #NAME? | P22: =_xll.RiskOutput(,B22,14)+P15+SUM(P19:P21) -> #NAME? | Q22: =_xll.RiskOutput(,B22,15)+Q15+SUM(Q19:Q21) -> #NAME? | R22: =_xll.RiskOutput(,B22,16)+R15+SUM(R19:R21) -> #NAME? | S22: =_xll.RiskOutput(,B22,17)+S15+SUM(S19:S21) -> #NAME? | T22: =_xll.RiskOutput(,B22,18)+T15+SUM(T19:T21) -> #NAME? | U22: =_xll.RiskOutput(,B22,19)+U15+SUM(U19:U21) -> #NAME? | V22: =_xll.RiskOutput(,B22,20)+V15+SUM(V19:V21) -> #NAME? | W22: =_xll.RiskOutput(,B22,21)+W15+SUM(W19:W21) -> #NAME?
B23: NPV | C23: =_xll.RiskOutput(B23)+C22+NPV($C$2,D22:W22) -> #NAME?
A27: RISK MODEL + MITIGATION | B27: SALES CONTRACT DATA
B28: Sales Volume | C28: =MarketData!G21 -> 40348.551 | D28: * Fixed sales volume in the contract, based on historical mean
B29: Mateirals Cost | C29: Market | D29: * Market prices/costs
B30: Product Price Discount | C30: 0.011194777 | D30: * WHAT IS THE MAXIMUM DISCOUNT WE SHOULD OFFER IN THE CONTRACT?
B31: Product Price | C31: =MarketData!I21*(1-C30) -> 16.057886 | D31: * Fixed sales price in the contract, based on historical mean + discount
B33: MARKET DATA + CONTRACT | C33: 0 | D33: =C33+1 -> 1 | E33: =D33+1 -> 2 | F33: =E33+1 -> 3 | G33: =F33+1 -> 4 | H33: =G33+1 -> 5 | I33: =H33+1 -> 6 | J33: =I33+1 -> 7 | K33: =J33+1 -> 8 | ... W33: =V33+1 -> 20
B34: Sales Volume | C34: =$C$28 -> 40348.551 | D34: =$C$28 -> 40348.551 | E34: =$C$28 -> 40348.551 | F34: =$C$28 -> 40348.551 | G34: =$C$28 -> 40348.551 | H34: =$C$28 -> 40348.551 | I34: =$C$28 -> 40348.551 | J34: =$C$28 -> 40348.551 | ... W34: =$C$28 -> 40348.551
B35: Mateirals Cost | C35: =C11 -> #NAME? | D35: =D11 -> #NAME? | E35: =E11 -> #NAME? | F35: =F11 -> #NAME? | G35: =G11 -> #NAME? | H35: =H11 -> #NAME? | I35: =I11 -> #NAME? | J35: =J11 -> #NAME? | ... W35: =W11 -> #NAME?
B36: Product Price | C36: =$C$31 -> 16.057886 | D36: =$C$31 -> 16.057886 | E36: =$C$31 -> 16.057886 | F36: =$C$31 -> 16.057886 | G36: =$C$31 -> 16.057886 | H36: =$C$31 -> 16.057886 | I36: =$C$31 -> 16.057886 | J36: =$C$31 -> 16.057886 | ... W36: =$C$31 -> 16.057886
B38: BUSINESS MODEL + CONTRACT | C38: 0 | D38: =C38+1 -> 1 | E38: =D38+1 -> 2 | F38: =E38+1 -> 3 | G38: =F38+1 -> 4 | H38: =G38+1 -> 5 | I38: =H38+1 -> 6 | J38: =I38+1 -> 7 | K38: =J38+1 -> 8 | ... W38: =V38+1 -> 20
B39: CAPEX | C39: =-SUM($C$3:$C$4) -> #NAME?
B40: Sales Volume | C40: =C34 -> 40348.551 | D40: =D34 -> 40348.551 | E40: =E34 -> 40348.551 | F40: =F34 -> 40348.551 | G40: =G34 -> 40348.551 | H40: =H34 -> 40348.551 | I40: =I34 -> 40348.551 | J40: =J34 -> 40348.551 | ... W40: =W34 -> 40348.551
B41: Mateirals Cost | C41: =C35 -> #NAME? | D41: =D35 -> #NAME? | E41: =E35 -> #NAME? | F41: =F35 -> #NAME? | G41: =G35 -> #NAME? | H41: =H35 -> #NAME? | I41: =I35 -> #NAME? | J41: =J35 -> #NAME? | ... W41: =W35 -> #NAME?
B42: Product Price | C42: =C36 -> 16.057886 | D42: =D36 -> 16.057886 | E42: =E36 -> 16.057886 | F42: =F36 -> 16.057886 | G42: =G36 -> 16.057886 | H42: =H36 -> 16.057886 | I42: =I36 -> 16.057886 | J42: =J36 -> 16.057886 | ... W42: =W36 -> 16.057886
B43: Revenues | C43: =C40*C42 -> 647912.43 | D43: =D40*D42 -> 647912.43 | E43: =E40*E42 -> 647912.43 | F43: =F40*F42 -> 647912.43 | G43: =G40*G42 -> 647912.43 | H43: =H40*H42 -> 647912.43 | I43: =I40*I42 -> 647912.43 | J43: =J40*J42 -> 647912.43 | ... W43: =W40*W42 -> 647912.43
B44: OPEX | C44: =-$C$5-C40*($C$6+C41) -> #NAME? | D44: =-$C$5-D40*($C$6+D41) -> #NAME? | E44: =-$C$5-E40*($C$6+E41) -> #NAME? | F44: =-$C$5-F40*($C$6+F41) -> #NAME? | G44: =-$C$5-G40*($C$6+G41) -> #NAME? | H44: =-$C$5-H40*($C$6+H41) -> #NAME? | I44: =-$C$5-I40*($C$6+I41) -> #NAME? | J44: =-$C$5-J40*($C$6+J41) -> #NAME? | ... W44: =-$C$5-W40*($C$6+W41) -> #NAME?
B45: Taxes | C45: =-(SUM(C43:C44)>0)*SUM(C43:C44)*$C$7 -> #NAME? | D45: =-(SUM(D43:D44)>0)*SUM(D43:D44)*$C$7 -> #NAME? | E45: =-(SUM(E43:E44)>0)*SUM(E43:E44)*$C$7 -> #NAME? | F45: =-(SUM(F43:F44)>0)*SUM(F43:F44)*$C$7 -> #NAME? | G45: =-(SUM(G43:G44)>0)*SUM(G43:G44)*$C$7 -> #NAME? | H45: =-(SUM(H43:H44)>0)*SUM(H43:H44)*$C$7 -> #NAME? | I45: =-(SUM(I43:I44)>0)*SUM(I43:I44)*$C$7 -> #NAME? | J45: =-(SUM(J43:J44)>0)*SUM(J43:J44)*$C$7 -> #NAME? | ... W45: =-(SUM(W43:W44)>0)*SUM(W43:W44)*$C$7 -> #NAME?
B46: Free Cash Flow | C46: =_xll.RiskOutput(,B46,1)+C39+SUM(C43:C45) -> #NAME? | D46: =_xll.RiskOutput(,B46,2)+D39+SUM(D43:D45) -> #NAME? | E46: =_xll.RiskOutput(,B46,3)+E39+SUM(E43:E45) -> #NAME? | F46: =_xll.RiskOutput(,B46,4)+F39+SUM(F43:F45) -> #NAME? | G46: =_xll.RiskOutput(,B46,5)+G39+SUM(G43:G45) -> #NAME? | H46: =_xll.RiskOutput(,B46,6)+H39+SUM(H43:H45) -> #NAME? | I46: =_xll.RiskOutput(,B46,7)+I39+SUM(I43:I45) -> #NAME? | J46: =_xll.RiskOutput(,B46,8)+J39+SUM(J43:J45) -> #NAME? | K46: =_xll.RiskOutput(,B46,9)+K39+SUM(K43:K45) -> #NAME? | L46: =_xll.RiskOutput(,B46,10)+L39+SUM(L43:L45) -> #NAME? | M46: =_xll.RiskOutput(,B46,11)+M39+SUM(M43:M45) -> #NAME? | N46: =_xll.RiskOutput(,B46,12)+N39+SUM(N43:N45) -> #NAME? | O46: =_xll.RiskOutput(,B46,13)+O39+SUM(O43:O45) -> #NAME? | P46: =_xll.RiskOutput(,B46,14)+P39+SUM(P43:P45) -> #NAME? | Q46: =_xll.RiskOutput(,B46,15)+Q39+SUM(Q43:Q45) -> #NAME? | R46: =_xll.RiskOutput(,B46,16)+R39+SUM(R43:R45) -> #NAME? | S46: =_xll.RiskOutput(,B46,17)+S39+SUM(S43:S45) -> #NAME? | T46: =_xll.RiskOutput(,B46,18)+T39+SUM(T43:T45) -> #NAME? | U46: =_xll.RiskOutput(,B46,19)+U39+SUM(U43:U45) -> #NAME? | V46: =_xll.RiskOutput(,B46,20)+V39+SUM(V43:V45) -> #NAME? | W46: =_xll.RiskOutput(,B46,21)+W39+SUM(W43:W45) -> #NAME?
B47: NPV | C47: =_xll.RiskOutput(B47)+C46+NPV($C$2,D46:W46) -> #NAME?
